BEGIN:VCALENDAR
VERSION:2.0
PRODID:-//Apothekennetzwerk im Siebengebirge - ECPv6.15.20//NONSGML v1.0//EN
CALSCALE:GREGORIAN
METHOD:PUBLISH
X-WR-CALNAME:Apothekennetzwerk im Siebengebirge
X-ORIGINAL-URL:https://siebengebirgsapotheke.de
X-WR-CALDESC:Veranstaltungen für Apothekennetzwerk im Siebengebirge
REFRESH-INTERVAL;VALUE=DURATION:PT1H
X-Robots-Tag:noindex
X-PUBLISHED-TTL:PT1H
BEGIN:VTIMEZONE
TZID:Europe/Berlin
BEGIN:DAYLIGHT
TZOFFSETFROM:+0100
TZOFFSETTO:+0200
TZNAME:CEST
DTSTART:20250330T010000
END:DAYLIGHT
BEGIN:STANDARD
TZOFFSETFROM:+0200
TZOFFSETTO:+0100
TZNAME:CET
DTSTART:20251026T010000
END:STANDARD
BEGIN:DAYLIGHT
TZOFFSETFROM:+0100
TZOFFSETTO:+0200
TZNAME:CEST
DTSTART:20260329T010000
END:DAYLIGHT
BEGIN:STANDARD
TZOFFSETFROM:+0200
TZOFFSETTO:+0100
TZNAME:CET
DTSTART:20261025T010000
END:STANDARD
BEGIN:DAYLIGHT
TZOFFSETFROM:+0100
TZOFFSETTO:+0200
TZNAME:CEST
DTSTART:20270328T010000
END:DAYLIGHT
BEGIN:STANDARD
TZOFFSETFROM:+0200
TZOFFSETTO:+0100
TZNAME:CET
DTSTART:20271031T010000
END:STANDARD
END:VTIMEZONE
BEGIN:VEVENT
DTSTART;TZID=Europe/Berlin:20260422T090000
DTEND;TZID=Europe/Berlin:20260423T090000
DTSTAMP:20260420T043610
CREATED:20251105T160304Z
LAST-MODIFIED:20251105T160304Z
UID:1633-1776848400-1776934800@siebengebirgsapotheke.de
SUMMARY:[NRW] Kloster Apotheke
DESCRIPTION:
URL:https://siebengebirgsapotheke.de/notdienstplan/nrw-kloster-apotheke-6/
LOCATION:Kloster Apotheke\, Dollendorfer Str. 400\, Königswinter\, NRW\, 53639
CATEGORIES:Kloster Apotheke,NRW
END:VEVENT
BEGIN:VEVENT
DTSTART;TZID=Europe/Berlin:20260425T090000
DTEND;TZID=Europe/Berlin:20260426T090000
DTSTAMP:20260420T043610
CREATED:20251105T152722Z
LAST-MODIFIED:20251105T152722Z
UID:1602-1777107600-1777194000@siebengebirgsapotheke.de
SUMMARY:[NRW] Rosen Apotheke (Niederdollendorf)
DESCRIPTION:
URL:https://siebengebirgsapotheke.de/notdienstplan/nrw-rosen-apotheke-niederdollendorf-48/
LOCATION:Rosen Apotheke (Niederdollendorf)\, Heisterbacher Str. 33\, Königswinter\, NRW\, 53639\, Deutschland
CATEGORIES:NRW,Rosen Apotheke (Niederdollendorf)
END:VEVENT
BEGIN:VEVENT
DTSTART;TZID=Europe/Berlin:20260428T083000
DTEND;TZID=Europe/Berlin:20260429T083000
DTSTAMP:20260420T043610
CREATED:20251105T151426Z
LAST-MODIFIED:20251105T151426Z
UID:1562-1777365000-1777451400@siebengebirgsapotheke.de
SUMMARY:[RLP] Rosen Apotheke (Vettelschoß)
DESCRIPTION:
URL:https://siebengebirgsapotheke.de/notdienstplan/rlp-rosen-apotheke-vettelschoss-54/
LOCATION:Rosen Apotheke (Vettelschoß)\, Michaelstraße 59\, Vettelschoß\, RLP\, 53560\, Deutschland
CATEGORIES:RLP,Rosen Apotheke (Vettelschoß)
END:VEVENT
BEGIN:VEVENT
DTSTART;TZID=Europe/Berlin:20260428T090000
DTEND;TZID=Europe/Berlin:20260429T090000
DTSTAMP:20260420T043610
CREATED:20251106T120113Z
LAST-MODIFIED:20251106T120113Z
UID:1665-1777366800-1777453200@siebengebirgsapotheke.de
SUMMARY:[NRW] Ittenbacher Apotheke
DESCRIPTION:
URL:https://siebengebirgsapotheke.de/notdienstplan/nrw-ittenbacher-apotheke-6/
LOCATION:Ittenbacher Apotheke\, Kirchstr. 3\, Königswinter\, NRW\, 53639
CATEGORIES:Ittenbacher Apotheke,NRW
END:VEVENT
BEGIN:VEVENT
DTSTART;TZID=Europe/Berlin:20260430T090000
DTEND;TZID=Europe/Berlin:20260501T090000
DTSTAMP:20260420T043610
CREATED:20251105T145442Z
LAST-MODIFIED:20251105T145442Z
UID:1499-1777539600-1777626000@siebengebirgsapotheke.de
SUMMARY:[NRW] Oelberg Apotheke
DESCRIPTION:
URL:https://siebengebirgsapotheke.de/notdienstplan/nrw-oelberg-apotheke-44/
LOCATION:Oelberg Apotheke\, An der Alten Schule 3\, Königswinter\, NRW\, 53639\, Deutschland
CATEGORIES:NRW,Oelberg Apotheke
END:VEVENT
BEGIN:VEVENT
DTSTART;TZID=Europe/Berlin:20260503T090000
DTEND;TZID=Europe/Berlin:20260504T090000
DTSTAMP:20260420T043610
CREATED:20251105T150445Z
LAST-MODIFIED:20251105T150445Z
UID:1530-1777798800-1777885200@siebengebirgsapotheke.de
SUMMARY:[NRW] Neue Löwen Apotheke
DESCRIPTION:
URL:https://siebengebirgsapotheke.de/notdienstplan/nrw-neue-loewen-apotheke-46/
LOCATION:Neue Löwen Apotheke\, Dollendorferstr. 27\, Königswinter\, NRW\, 53639\, Deutschland
CATEGORIES:Neue Löwen Apotheke,NRW
END:VEVENT
BEGIN:VEVENT
DTSTART;TZID=Europe/Berlin:20260516T090000
DTEND;TZID=Europe/Berlin:20260517T090000
DTSTAMP:20260420T043610
CREATED:20251106T120131Z
LAST-MODIFIED:20251106T120131Z
UID:1667-1778922000-1779008400@siebengebirgsapotheke.de
SUMMARY:[NRW] Ittenbacher Apotheke
DESCRIPTION:
URL:https://siebengebirgsapotheke.de/notdienstplan/nrw-ittenbacher-apotheke-7/
LOCATION:Ittenbacher Apotheke\, Kirchstr. 3\, Königswinter\, NRW\, 53639
CATEGORIES:Ittenbacher Apotheke,NRW
END:VEVENT
BEGIN:VEVENT
DTSTART;TZID=Europe/Berlin:20260518T090000
DTEND;TZID=Europe/Berlin:20260519T090000
DTSTAMP:20260420T043610
CREATED:20251105T144231Z
LAST-MODIFIED:20251105T144231Z
UID:1469-1779094800-1779181200@siebengebirgsapotheke.de
SUMMARY:[NRW] Siebengebirgs Apotheke
DESCRIPTION:
URL:https://siebengebirgsapotheke.de/notdienstplan/nrw-siebengebirgs-apotheke-47/
LOCATION:Siebengebirgs Apotheke\, Dollendorferstr. 7\, Königswinter\, NRW\, 53639\, Deutschland
CATEGORIES:NRW,Siebengebirgs Apotheke
END:VEVENT
BEGIN:VEVENT
DTSTART;TZID=Europe/Berlin:20260521T083000
DTEND;TZID=Europe/Berlin:20260522T083000
DTSTAMP:20260420T043610
CREATED:20251105T151453Z
LAST-MODIFIED:20251105T151453Z
UID:1564-1779352200-1779438600@siebengebirgsapotheke.de
SUMMARY:[RLP] Rosen Apotheke (Vettelschoß)
DESCRIPTION:
URL:https://siebengebirgsapotheke.de/notdienstplan/rlp-rosen-apotheke-vettelschoss-55/
LOCATION:Rosen Apotheke (Vettelschoß)\, Michaelstraße 59\, Vettelschoß\, RLP\, 53560\, Deutschland
CATEGORIES:RLP,Rosen Apotheke (Vettelschoß)
END:VEVENT
BEGIN:VEVENT
DTSTART;TZID=Europe/Berlin:20260522T090000
DTEND;TZID=Europe/Berlin:20260523T090000
DTSTAMP:20260420T043610
CREATED:20251105T150511Z
LAST-MODIFIED:20251105T150511Z
UID:1532-1779440400-1779526800@siebengebirgsapotheke.de
SUMMARY:[NRW] Neue Löwen Apotheke
DESCRIPTION:
URL:https://siebengebirgsapotheke.de/notdienstplan/nrw-neue-loewen-apotheke-47/
LOCATION:Neue Löwen Apotheke\, Dollendorferstr. 27\, Königswinter\, NRW\, 53639\, Deutschland
CATEGORIES:Neue Löwen Apotheke,NRW
END:VEVENT
BEGIN:VEVENT
DTSTART;TZID=Europe/Berlin:20260603T090000
DTEND;TZID=Europe/Berlin:20260604T090000
DTSTAMP:20260420T043610
CREATED:20251105T152750Z
LAST-MODIFIED:20251105T152750Z
UID:1604-1780477200-1780563600@siebengebirgsapotheke.de
SUMMARY:[NRW] Rosen Apotheke (Niederdollendorf)
DESCRIPTION:
URL:https://siebengebirgsapotheke.de/notdienstplan/nrw-rosen-apotheke-niederdollendorf-49/
LOCATION:Rosen Apotheke (Niederdollendorf)\, Heisterbacher Str. 33\, Königswinter\, NRW\, 53639\, Deutschland
CATEGORIES:NRW,Rosen Apotheke (Niederdollendorf)
END:VEVENT
BEGIN:VEVENT
DTSTART;TZID=Europe/Berlin:20260606T090000
DTEND;TZID=Europe/Berlin:20260607T090000
DTSTAMP:20260420T043610
CREATED:20251105T160328Z
LAST-MODIFIED:20251105T160328Z
UID:1635-1780736400-1780822800@siebengebirgsapotheke.de
SUMMARY:[NRW] Kloster Apotheke
DESCRIPTION:
URL:https://siebengebirgsapotheke.de/notdienstplan/nrw-kloster-apotheke-7/
LOCATION:Kloster Apotheke\, Dollendorfer Str. 400\, Königswinter\, NRW\, 53639
CATEGORIES:Kloster Apotheke,NRW
END:VEVENT
BEGIN:VEVENT
DTSTART;TZID=Europe/Berlin:20260608T090000
DTEND;TZID=Europe/Berlin:20260609T090000
DTSTAMP:20260420T043610
CREATED:20251105T144254Z
LAST-MODIFIED:20251105T144254Z
UID:1471-1780909200-1780995600@siebengebirgsapotheke.de
SUMMARY:[NRW] Siebengebirgs Apotheke
DESCRIPTION:
URL:https://siebengebirgsapotheke.de/notdienstplan/nrw-siebengebirgs-apotheke-48/
LOCATION:Siebengebirgs Apotheke\, Dollendorferstr. 7\, Königswinter\, NRW\, 53639\, Deutschland
CATEGORIES:NRW,Siebengebirgs Apotheke
END:VEVENT
BEGIN:VEVENT
DTSTART;TZID=Europe/Berlin:20260611T090000
DTEND;TZID=Europe/Berlin:20260612T090000
DTSTAMP:20260420T043610
CREATED:20251105T150536Z
LAST-MODIFIED:20251105T150536Z
UID:1534-1781168400-1781254800@siebengebirgsapotheke.de
SUMMARY:[NRW] Neue Löwen Apotheke
DESCRIPTION:
URL:https://siebengebirgsapotheke.de/notdienstplan/nrw-neue-loewen-apotheke-48/
LOCATION:Neue Löwen Apotheke\, Dollendorferstr. 27\, Königswinter\, NRW\, 53639\, Deutschland
CATEGORIES:Neue Löwen Apotheke,NRW
END:VEVENT
BEGIN:VEVENT
DTSTART;TZID=Europe/Berlin:20260617T090000
DTEND;TZID=Europe/Berlin:20260618T090000
DTSTAMP:20260420T043610
CREATED:20251106T120210Z
LAST-MODIFIED:20251106T120210Z
UID:1669-1781686800-1781773200@siebengebirgsapotheke.de
SUMMARY:[NRW] Ittenbacher Apotheke
DESCRIPTION:
URL:https://siebengebirgsapotheke.de/notdienstplan/nrw-ittenbacher-apotheke-8/
LOCATION:Ittenbacher Apotheke\, Kirchstr. 3\, Königswinter\, NRW\, 53639
CATEGORIES:Ittenbacher Apotheke,NRW
END:VEVENT
BEGIN:VEVENT
DTSTART;TZID=Europe/Berlin:20260619T083000
DTEND;TZID=Europe/Berlin:20260620T083000
DTSTAMP:20260420T043610
CREATED:20251105T151519Z
LAST-MODIFIED:20251105T151519Z
UID:1566-1781857800-1781944200@siebengebirgsapotheke.de
SUMMARY:[RLP] Rosen Apotheke (Vettelschoß)
DESCRIPTION:
URL:https://siebengebirgsapotheke.de/notdienstplan/rlp-rosen-apotheke-vettelschoss-56/
LOCATION:Rosen Apotheke (Vettelschoß)\, Michaelstraße 59\, Vettelschoß\, RLP\, 53560\, Deutschland
CATEGORIES:RLP,Rosen Apotheke (Vettelschoß)
END:VEVENT
BEGIN:VEVENT
DTSTART;TZID=Europe/Berlin:20260619T090000
DTEND;TZID=Europe/Berlin:20260620T090000
DTSTAMP:20260420T043610
CREATED:20251105T160440Z
LAST-MODIFIED:20251105T160440Z
UID:1637-1781859600-1781946000@siebengebirgsapotheke.de
SUMMARY:[NRW] Kloster Apotheke
DESCRIPTION:
URL:https://siebengebirgsapotheke.de/notdienstplan/nrw-kloster-apotheke-8/
LOCATION:Kloster Apotheke\, Dollendorfer Str. 400\, Königswinter\, NRW\, 53639
CATEGORIES:Kloster Apotheke,NRW
END:VEVENT
BEGIN:VEVENT
DTSTART;TZID=Europe/Berlin:20260623T090000
DTEND;TZID=Europe/Berlin:20260624T090000
DTSTAMP:20260420T043610
CREATED:20251105T145634Z
LAST-MODIFIED:20251105T145634Z
UID:1503-1782205200-1782291600@siebengebirgsapotheke.de
SUMMARY:[NRW] Oelberg Apotheke
DESCRIPTION:
URL:https://siebengebirgsapotheke.de/notdienstplan/nrw-oelberg-apotheke-46/
LOCATION:Oelberg Apotheke\, An der Alten Schule 3\, Königswinter\, NRW\, 53639\, Deutschland
CATEGORIES:NRW,Oelberg Apotheke
END:VEVENT
BEGIN:VEVENT
DTSTART;TZID=Europe/Berlin:20260627T083000
DTEND;TZID=Europe/Berlin:20260628T083000
DTSTAMP:20260420T043610
CREATED:20251105T151542Z
LAST-MODIFIED:20251105T151542Z
UID:1568-1782549000-1782635400@siebengebirgsapotheke.de
SUMMARY:[RLP] Rosen Apotheke (Vettelschoß)
DESCRIPTION:
URL:https://siebengebirgsapotheke.de/notdienstplan/rlp-rosen-apotheke-vettelschoss-57/
LOCATION:Rosen Apotheke (Vettelschoß)\, Michaelstraße 59\, Vettelschoß\, RLP\, 53560\, Deutschland
CATEGORIES:RLP,Rosen Apotheke (Vettelschoß)
END:VEVENT
BEGIN:VEVENT
DTSTART;TZID=Europe/Berlin:20260628T090000
DTEND;TZID=Europe/Berlin:20260629T090000
DTSTAMP:20260420T043610
CREATED:20251105T152808Z
LAST-MODIFIED:20251105T152808Z
UID:1606-1782637200-1782723600@siebengebirgsapotheke.de
SUMMARY:[NRW] Rosen Apotheke (Niederdollendorf)
DESCRIPTION:
URL:https://siebengebirgsapotheke.de/notdienstplan/nrw-rosen-apotheke-niederdollendorf-50/
LOCATION:Rosen Apotheke (Niederdollendorf)\, Heisterbacher Str. 33\, Königswinter\, NRW\, 53639\, Deutschland
CATEGORIES:NRW,Rosen Apotheke (Niederdollendorf)
END:VEVENT
BEGIN:VEVENT
DTSTART;TZID=Europe/Berlin:20260704T090000
DTEND;TZID=Europe/Berlin:20260705T090000
DTSTAMP:20260420T043610
CREATED:20251105T144319Z
LAST-MODIFIED:20251105T144319Z
UID:1473-1783155600-1783242000@siebengebirgsapotheke.de
SUMMARY:[NRW] Siebengebirgs Apotheke
DESCRIPTION:
URL:https://siebengebirgsapotheke.de/notdienstplan/nrw-siebengebirgs-apotheke-49/
LOCATION:Siebengebirgs Apotheke\, Dollendorferstr. 7\, Königswinter\, NRW\, 53639\, Deutschland
CATEGORIES:NRW,Siebengebirgs Apotheke
END:VEVENT
BEGIN:VEVENT
DTSTART;TZID=Europe/Berlin:20260707T083000
DTEND;TZID=Europe/Berlin:20260708T083000
DTSTAMP:20260420T043610
CREATED:20251105T151607Z
LAST-MODIFIED:20251105T151607Z
UID:1570-1783413000-1783499400@siebengebirgsapotheke.de
SUMMARY:[RLP] Rosen Apotheke (Vettelschoß)
DESCRIPTION:
URL:https://siebengebirgsapotheke.de/notdienstplan/rlp-rosen-apotheke-vettelschoss-58/
LOCATION:Rosen Apotheke (Vettelschoß)\, Michaelstraße 59\, Vettelschoß\, RLP\, 53560\, Deutschland
CATEGORIES:RLP,Rosen Apotheke (Vettelschoß)
END:VEVENT
BEGIN:VEVENT
DTSTART;TZID=Europe/Berlin:20260708T090000
DTEND;TZID=Europe/Berlin:20260709T090000
DTSTAMP:20260420T043610
CREATED:20251105T150607Z
LAST-MODIFIED:20251105T150607Z
UID:1536-1783501200-1783587600@siebengebirgsapotheke.de
SUMMARY:[NRW] Neue Löwen Apotheke
DESCRIPTION:
URL:https://siebengebirgsapotheke.de/notdienstplan/nrw-neue-loewen-apotheke-49/
LOCATION:Neue Löwen Apotheke\, Dollendorferstr. 27\, Königswinter\, NRW\, 53639\, Deutschland
CATEGORIES:Neue Löwen Apotheke,NRW
END:VEVENT
BEGIN:VEVENT
DTSTART;TZID=Europe/Berlin:20260710T090000
DTEND;TZID=Europe/Berlin:20260711T090000
DTSTAMP:20260420T043610
CREATED:20251106T120234Z
LAST-MODIFIED:20251106T120234Z
UID:1671-1783674000-1783760400@siebengebirgsapotheke.de
SUMMARY:[NRW] Ittenbacher Apotheke
DESCRIPTION:
URL:https://siebengebirgsapotheke.de/notdienstplan/nrw-ittenbacher-apotheke-9/
LOCATION:Ittenbacher Apotheke\, Kirchstr. 3\, Königswinter\, NRW\, 53639
CATEGORIES:Ittenbacher Apotheke,NRW
END:VEVENT
BEGIN:VEVENT
DTSTART;TZID=Europe/Berlin:20260715T090000
DTEND;TZID=Europe/Berlin:20260716T090000
DTSTAMP:20260420T043610
CREATED:20251105T160500Z
LAST-MODIFIED:20251105T160500Z
UID:1639-1784106000-1784192400@siebengebirgsapotheke.de
SUMMARY:[NRW] Kloster Apotheke
DESCRIPTION:
URL:https://siebengebirgsapotheke.de/notdienstplan/nrw-kloster-apotheke-9/
LOCATION:Kloster Apotheke\, Dollendorfer Str. 400\, Königswinter\, NRW\, 53639
CATEGORIES:Kloster Apotheke,NRW
END:VEVENT
BEGIN:VEVENT
DTSTART;TZID=Europe/Berlin:20260718T090000
DTEND;TZID=Europe/Berlin:20260719T090000
DTSTAMP:20260420T043610
CREATED:20251105T145700Z
LAST-MODIFIED:20251105T145700Z
UID:1505-1784365200-1784451600@siebengebirgsapotheke.de
SUMMARY:[NRW] Oelberg Apotheke
DESCRIPTION:
URL:https://siebengebirgsapotheke.de/notdienstplan/nrw-oelberg-apotheke-47/
LOCATION:Oelberg Apotheke\, An der Alten Schule 3\, Königswinter\, NRW\, 53639\, Deutschland
CATEGORIES:NRW,Oelberg Apotheke
END:VEVENT
BEGIN:VEVENT
DTSTART;TZID=Europe/Berlin:20260719T083000
DTEND;TZID=Europe/Berlin:20260720T083000
DTSTAMP:20260420T043610
CREATED:20251105T151634Z
LAST-MODIFIED:20251105T151634Z
UID:1572-1784449800-1784536200@siebengebirgsapotheke.de
SUMMARY:[RLP] Rosen Apotheke (Vettelschoß)
DESCRIPTION:
URL:https://siebengebirgsapotheke.de/notdienstplan/rlp-rosen-apotheke-vettelschoss-59/
LOCATION:Rosen Apotheke (Vettelschoß)\, Michaelstraße 59\, Vettelschoß\, RLP\, 53560\, Deutschland
CATEGORIES:RLP,Rosen Apotheke (Vettelschoß)
END:VEVENT
BEGIN:VEVENT
DTSTART;TZID=Europe/Berlin:20260723T090000
DTEND;TZID=Europe/Berlin:20260724T090000
DTSTAMP:20260420T043610
CREATED:20251105T152828Z
LAST-MODIFIED:20251105T152842Z
UID:1608-1784797200-1784883600@siebengebirgsapotheke.de
SUMMARY:[NRW] Rosen Apotheke (Niederdollendorf)
DESCRIPTION:
URL:https://siebengebirgsapotheke.de/notdienstplan/nrw-rosen-apotheke-niederdollendorf-51/
LOCATION:Rosen Apotheke (Niederdollendorf)\, Heisterbacher Str. 33\, Königswinter\, NRW\, 53639\, Deutschland
CATEGORIES:NRW,Rosen Apotheke (Niederdollendorf)
END:VEVENT
BEGIN:VEVENT
DTSTART;TZID=Europe/Berlin:20260728T090000
DTEND;TZID=Europe/Berlin:20260729T090000
DTSTAMP:20260420T043610
CREATED:20251105T144350Z
LAST-MODIFIED:20251105T144350Z
UID:1475-1785229200-1785315600@siebengebirgsapotheke.de
SUMMARY:[NRW] Siebengebirgs Apotheke
DESCRIPTION:
URL:https://siebengebirgsapotheke.de/notdienstplan/nrw-siebengebirgs-apotheke-50/
LOCATION:Siebengebirgs Apotheke\, Dollendorferstr. 7\, Königswinter\, NRW\, 53639\, Deutschland
CATEGORIES:NRW,Siebengebirgs Apotheke
END:VEVENT
BEGIN:VEVENT
DTSTART;TZID=Europe/Berlin:20260730T090000
DTEND;TZID=Europe/Berlin:20260731T090000
DTSTAMP:20260420T043610
CREATED:20251106T120255Z
LAST-MODIFIED:20251106T120255Z
UID:1673-1785402000-1785488400@siebengebirgsapotheke.de
SUMMARY:[NRW] Ittenbacher Apotheke
DESCRIPTION:
URL:https://siebengebirgsapotheke.de/notdienstplan/nrw-ittenbacher-apotheke-10/
LOCATION:Ittenbacher Apotheke\, Kirchstr. 3\, Königswinter\, NRW\, 53639
CATEGORIES:Ittenbacher Apotheke,NRW
END:VEVENT
END:VCALENDAR